BEGIN:VCALENDAR
PRODID:-//Microsoft Corporation//Outlook 14.0 MIMEDIR//EN
VERSION:2.0
METHOD:PUBLISH
BEGIN:VEVENT
UID:d68c3aab5789d737843f9e22df2ed8e1ville.sainte-anne-de-bellevue.qc.ca
DTSTAMP:20260423T093335Z
DTSTART:2026-05-06T14:00:0000Z
DTEND:2026-05-06T14:00:0000Z
SUMMARY: Club de lecture francophone
LOCATION:
DESCRIPTION:Les membres se rencontrent après avoir lu un livre commun et discutent de leurs impressions. Les personnes intéressées doivent s’inscrire à la bibliothèque.
END:VEVENT
END:VCALENDAR