BEGIN:VCALENDAR
PRODID:-//Microsoft Corporation//Outlook 14.0 MIMEDIR//EN
VERSION:2.0
METHOD:PUBLISH
BEGIN:VEVENT
UID:d8c0c369d5003f8cf670463b241840d7ville.sainte-anne-de-bellevue.qc.ca
DTSTAMP:20260423T093421Z
DTSTART:2026-03-04T14:00:0000Z
DTEND:2026-03-04T14:00:0000Z
SUMMARY: Club de lecture francophone
LOCATION:
DESCRIPTION:Les membres se rencontrent après avoir lu un livre commun et discutent de leurs impressions. Les personnes intéressées doivent s’inscrire à la bibliothèque.
END:VEVENT
END:VCALENDAR