BEGIN:VCALENDAR
PRODID:-//Microsoft Corporation//Outlook 14.0 MIMEDIR//EN
VERSION:2.0
METHOD:PUBLISH
BEGIN:VEVENT
UID:8d466b778e967a760ce5606c5503adf1ville.sainte-anne-de-bellevue.qc.ca
DTSTAMP:20260422T000732Z
DTSTART:2026-05-25T07:00:0000Z
DTEND:2026-05-29T07:00:0000Z
SUMMARY:Semaines de l’embellissement (quartier Sud)
LOCATION:
DESCRIPTION:Les Semaines de l’embellissement sont de retour !

Déposez vos encombrants en bordure de rue avant 7 h et le service des travaux publics sillonnera les rues afin de les ramasser gratuitement !
END:VEVENT
END:VCALENDAR